BEGIN:VCALENDAR
VERSION:2.0
PRODID:-//PETFIX Big Island - ECPv6.15.17.1//NONSGML v1.0//EN
CALSCALE:GREGORIAN
METHOD:PUBLISH
X-WR-CALNAME:PETFIX Big Island
X-ORIGINAL-URL:https://petfixbigisland.org
X-WR-CALDESC:Events for PETFIX Big Island
REFRESH-INTERVAL;VALUE=DURATION:PT1H
X-Robots-Tag:noindex
X-PUBLISHED-TTL:PT1H
BEGIN:VTIMEZONE
TZID:America/Anchorage
BEGIN:DAYLIGHT
TZOFFSETFROM:-0900
TZOFFSETTO:-0800
TZNAME:AKDT
DTSTART:20250309T110000
END:DAYLIGHT
BEGIN:STANDARD
TZOFFSETFROM:-0800
TZOFFSETTO:-0900
TZNAME:AKST
DTSTART:20251102T100000
END:STANDARD
BEGIN:DAYLIGHT
TZOFFSETFROM:-0900
TZOFFSETTO:-0800
TZNAME:AKDT
DTSTART:20260308T110000
END:DAYLIGHT
BEGIN:STANDARD
TZOFFSETFROM:-0800
TZOFFSETTO:-0900
TZNAME:AKST
DTSTART:20261101T100000
END:STANDARD
BEGIN:DAYLIGHT
TZOFFSETFROM:-0900
TZOFFSETTO:-0800
TZNAME:AKDT
DTSTART:20270314T110000
END:DAYLIGHT
BEGIN:STANDARD
TZOFFSETFROM:-0800
TZOFFSETTO:-0900
TZNAME:AKST
DTSTART:20271107T100000
END:STANDARD
END:VTIMEZONE
BEGIN:VEVENT
DTSTART;VALUE=DATE:20260425
DTEND;VALUE=DATE:20260427
DTSTAMP:20260419T235205
CREATED:20260321T225919Z
LAST-MODIFIED:20260321T230541Z
UID:671-1777075200-1777247999@petfixbigisland.org
SUMMARY:4/25 and 4/26/26 Spay/Neuter Clinic CATS Kea'au
DESCRIPTION:
URL:https://petfixbigisland.org/event/4-25-and-4-26-26-spay-neuter-clinic-cats-keaau/
END:VEVENT
BEGIN:VEVENT
DTSTART;TZID=America/Anchorage:20260403T080000
DTEND;TZID=America/Anchorage:20260403T170000
DTSTAMP:20260419T235205
CREATED:20260327T015755Z
LAST-MODIFIED:20260327T015755Z
UID:690-1775203200-1775235600@petfixbigisland.org
SUMMARY:04/03/26 Spay/Neuter Clinic DOGS ----- Ocean View
DESCRIPTION:
URL:https://petfixbigisland.org/event/04-03-26-spay-neuter-clinic-dogs-ocean-view/
END:VEVENT
BEGIN:VEVENT
DTSTART;VALUE=DATE:20260328
DTEND;VALUE=DATE:20260330
DTSTAMP:20260419T235205
CREATED:20260321T225750Z
LAST-MODIFIED:20260321T230442Z
UID:669-1774656000-1774828799@petfixbigisland.org
SUMMARY:3/28 and 3/29/26 Spay/Neuter Clinic DOGS Kea'au
DESCRIPTION:
URL:https://petfixbigisland.org/event/3-28-and-3-29-26-spay-neuter-clinic-dogs-keaau/
END:VEVENT
BEGIN:VEVENT
DTSTART;VALUE=DATE:20260322
DTEND;VALUE=DATE:20260323
DTSTAMP:20260419T235205
CREATED:20260321T225648Z
LAST-MODIFIED:20260321T230349Z
UID:667-1774137600-1774223999@petfixbigisland.org
SUMMARY:03/22/2026 Spay/Neuter Clinic CATS Ocean View
DESCRIPTION:
URL:https://petfixbigisland.org/event/03-22-2026-spay-neuter-clinic-cats-ocean-view/
END:VEVENT
END:VCALENDAR